BEGIN:VCALENDAR
VERSION:2.0
PRODID:spatie/icalendar-generator
DESCRIPTION:Events from Bahamas Area
X-WR-CALDESC:Events from Bahamas Area
REFRESH-INTERVAL;VALUE=DURATION:PT1440M
X-PUBLISHED-TTL:PT1440M
BEGIN:VTIMEZONE
TZID:Etc/GMT+0
BEGIN:STANDARD
DTSTART:20231122T090000Z
TZOFFSETFROM:+0000
TZOFFSETTO:+0000
END:STANDARD
END:VTIMEZONE
BEGIN:VTIMEZONE
TZID:UTC
BEGIN:STANDARD
DTSTART:20250725T083216Z
TZOFFSETFROM:+0000
TZOFFSETTO:+0000
END:STANDARD
END:VTIMEZONE
BEGIN:VEVENT
UID:7-7
DTSTAMP:20260421T083216Z
SUMMARY:SFR RSC Meeting
LOCATION:
ORGANIZER;CN=bahamasadmin:MAILTO:stevewr57@gmail.com
DTSTART;TZID=Etc/GMT+0:20240818T090000
DTEND;TZID=Etc/GMT+0:20240818T140000
X-ALT-DESC;FMTTYPE=TEXT/HTML:
CATEGORIES:SFR RSC Meetings
URL;VALUE=URI:https://bahamasna.org/mc-events/sfr-rsc-meeting/
METHOD:PUBLISH
END:VEVENT
END:VCALENDAR